BEGIN:VCALENDAR
VERSION:2.0
METHOD:PUBLISH
PRODID:-//eightway/atendo2//NONSGML v1.0//EN
BEGIN:VEVENT
DTSTAMP:20260424T62130Z
DTSTART:20190913T90000Z
DTEND:20190915T10000Z
LOCATION:Deutscher Ring 40, 42327 Wuppertal, Germany (Sky Saunaclub)
UID:81-98
SUMMARY:Sieben Jahre Latinapower Jubiäumsparty im Sky
DESCRIPTION:https://www.freiercafe.net/kalender/sieben-jahre-latinapower-jubiaeumsparty-im-sky.81/event?id=98
URL:https://www.freiercafe.net/kalender/sieben-jahre-latinapower-jubiaeumsparty-im-sky.81/event?id=98
END:VEVENT
END:VCALENDAR