BEGIN:VCALENDAR
VERSION:2.0
METHOD:PUBLISH
PRODID:-//eightway/atendo2//NONSGML v1.0//EN
BEGIN:VEVENT
DTSTAMP:20260420T111647Z
DTSTART:20190928T90000Z
DTEND:20190929T30000Z
LOCATION:Güterstraße 27, 46499 Hamminkeln, Germany (Saunaclub Venus)
UID:80-96
SUMMARY:Pyjama-Party im Saunaclub Venus Hamminkeln
DESCRIPTION:https://www.freiercafe.net/kalender/pyjama-party-im-saunaclub-venus-hamminkeln.80/event?id=96
URL:https://www.freiercafe.net/kalender/pyjama-party-im-saunaclub-venus-hamminkeln.80/event?id=96
END:VEVENT
END:VCALENDAR