BEGIN:VCALENDAR
VERSION:2.0
METHOD:PUBLISH
PRODID:-//eightway/atendo2//NONSGML v1.0//EN
BEGIN:VEVENT
DTSTAMP:20260420T90131Z
DTSTART:20191005T90000Z
DTEND:20191006T40000Z
LOCATION:Eurotec-Ring 51, 47445 Moers, Germany (Saunaclub Diamond)
UID:79-95
SUMMARY:Sexy Susi im Saunaclub Moers - Glamour Party
DESCRIPTION:https://www.freiercafe.net/kalender/sexy-susi-im-saunaclub-moers-glamour-party.79/event?id=95
URL:https://www.freiercafe.net/kalender/sexy-susi-im-saunaclub-moers-glamour-party.79/event?id=95
END:VEVENT
END:VCALENDAR