BEGIN:VCALENDAR
VERSION:2.0
METHOD:PUBLISH
PRODID:-//eightway/atendo2//NONSGML v1.0//EN
BEGIN:VEVENT
DTSTAMP:20260420T90157Z
DTSTART:20190830T80000Z
DTEND:20190831T30000Z
LOCATION:Bahnstraße 90, 47929 Grefrath, Germany (Saunaclub Villa Vanilla)
UID:77-93
SUMMARY:Villa Vanilla Poolparty
DESCRIPTION:https://www.freiercafe.net/kalender/villa-vanilla-poolparty.77/event?id=93
URL:https://www.freiercafe.net/kalender/villa-vanilla-poolparty.77/event?id=93
END:VEVENT
END:VCALENDAR