BEGIN:VCALENDAR
VERSION:2.0
METHOD:PUBLISH
PRODID:-//eightway/atendo2//NONSGML v1.0//EN
BEGIN:VEVENT
DTSTAMP:20260420T90133Z
DTSTART:20191016T90000Z
DTEND:20191017T30000Z
LOCATION:Club Mondial Hugo-Junkers-Straße 10, 50739 Köln
UID:75-91
SUMMARY:Murat´s Birthday Party im Mondial
DESCRIPTION:https://www.freiercafe.net/kalender/murats-birthday-party-im-mondial.75/event?id=91
URL:https://www.freiercafe.net/kalender/murats-birthday-party-im-mondial.75/event?id=91
END:VEVENT
END:VCALENDAR