BEGIN:VCALENDAR
VERSION:2.0
METHOD:PUBLISH
PRODID:-//eightway/atendo2//NONSGML v1.0//EN
BEGIN:VEVENT
DTSTAMP:20260420T90128Z
DTSTART:20190911T90000Z
DTEND:20190912T30000Z
LOCATION:Samya FKK-Club, Kirschbaumweg 26 a, 50996 Köln-Rodenkirchen
UID:74-90
SUMMARY:Samya Fetisch Party - Lack &amp; Leder Edition
DESCRIPTION:https://www.freiercafe.net/kalender/samya-fetisch-party-lack-leder-edition.74/event?id=90
URL:https://www.freiercafe.net/kalender/samya-fetisch-party-lack-leder-edition.74/event?id=90
END:VEVENT
END:VCALENDAR