BEGIN:VCALENDAR
VERSION:2.0
METHOD:PUBLISH
PRODID:-//eightway/atendo2//NONSGML v1.0//EN
BEGIN:VEVENT
DTSTAMP:20260420T90133Z
DTSTART:20190823T90000Z
DTEND:20190825T40000Z
LOCATION:Butzenstraße 41, 47918 Tönisvorst, Germany (Saunaclub Happy Garden)
UID:73-89
SUMMARY:Whiteparty im Happy Garden
DESCRIPTION:https://www.freiercafe.net/kalender/whiteparty-im-happy-garden.73/event?id=89
URL:https://www.freiercafe.net/kalender/whiteparty-im-happy-garden.73/event?id=89
END:VEVENT
END:VCALENDAR