BEGIN:VCALENDAR
VERSION:2.0
METHOD:PUBLISH
PRODID:-//eightway/atendo2//NONSGML v1.0//EN
BEGIN:VEVENT
DTSTAMP:20260420T90159Z
DTSTART:20190831T90000Z
DTEND:20190901T30000Z
LOCATION:Acapulco Gold, ROBERT-ZAPP-STR. 2A, 40880 RATINGEN
UID:72-88
SUMMARY:THE ONE AND ONLY TRUE ACAPULCO GOLD PARTY
DESCRIPTION:https://www.freiercafe.net/kalender/the-one-and-only-true-acapulco-gold-party.72/event?id=88
URL:https://www.freiercafe.net/kalender/the-one-and-only-true-acapulco-gold-party.72/event?id=88
END:VEVENT
END:VCALENDAR