BEGIN:VCALENDAR
VERSION:2.0
METHOD:PUBLISH
PRODID:-//eightway/atendo2//NONSGML v1.0//EN
BEGIN:VEVENT
DTSTAMP:20260420T90132Z
DTSTART:20190906T90000Z
DTEND:20190909T20000Z
LOCATION:Westring 233A, 44579 Castrop-Rauxel, Germany (Penelope de Luxe)
UID:71-87
SUMMARY:Penelope de luxe Grand Opening
DESCRIPTION:https://www.freiercafe.net/kalender/penelope-de-luxe-grand-opening.71/event?id=87
URL:https://www.freiercafe.net/kalender/penelope-de-luxe-grand-opening.71/event?id=87
END:VEVENT
END:VCALENDAR