BEGIN:VCALENDAR
VERSION:2.0
METHOD:PUBLISH
PRODID:-//eightway/atendo2//NONSGML v1.0//EN
BEGIN:VEVENT
DTSTAMP:20260420T90130Z
DTSTART:20190814T90000Z
DTEND:20190815T30000Z
LOCATION:Samya FKK-Club, Kirschbaumweg 26 a, 50996 Köln-Rodenkirchen
UID:70-86
SUMMARY:Mallorca Party... (Samya FKK-Club, Kirschbaumweg 26 a, 50996 Köln-Rodenkirchen)
DESCRIPTION:https://www.freiercafe.net/kalender/mallorca-party-samya-fkk-club-kirschbaumweg-26-a-50996-koeln-rodenkirchen.70/event?id=86
URL:https://www.freiercafe.net/kalender/mallorca-party-samya-fkk-club-kirschbaumweg-26-a-50996-koeln-rodenkirchen.70/event?id=86
END:VEVENT
END:VCALENDAR