BEGIN:VCALENDAR
VERSION:2.0
METHOD:PUBLISH
PRODID:-//eightway/atendo2//NONSGML v1.0//EN
BEGIN:VEVENT
DTSTAMP:20260420T90133Z
DTSTART:20190814T90000Z
DTEND:20190814T100000Z
LOCATION:Club Mondial, Hugo-Junkers-Straße 10, 50739 Köln
UID:69-85
SUMMARY:Bayram Party im Mondial
DESCRIPTION:https://www.freiercafe.net/kalender/bayram-party-im-mondial.69/event?id=85
URL:https://www.freiercafe.net/kalender/bayram-party-im-mondial.69/event?id=85
END:VEVENT
END:VCALENDAR