BEGIN:VCALENDAR
VERSION:2.0
METHOD:PUBLISH
PRODID:-//eightway/atendo2//NONSGML v1.0//EN
BEGIN:VEVENT
DTSTAMP:20260420T90127Z
DTSTART:20190731T90000Z
DTEND:20190801T40000Z
LOCATION:Samya FKK-Club, Kirschbaumweg 26 a, 50996 Köln-Rodenkirchen
UID:68-84
SUMMARY:Ali Baba Party im Samya
DESCRIPTION:https://www.freiercafe.net/kalender/ali-baba-party-im-samya.68/event?id=84
URL:https://www.freiercafe.net/kalender/ali-baba-party-im-samya.68/event?id=84
END:VEVENT
END:VCALENDAR