BEGIN:VCALENDAR
VERSION:2.0
METHOD:PUBLISH
PRODID:-//eightway/atendo2//NONSGML v1.0//EN
BEGIN:VEVENT
DTSTAMP:20260420T90135Z
DTSTART:20190724T90000Z
DTEND:20190725T40000Z
LOCATION:Club Mondial, Hugo-Junkers-Straße 10, 50739 Köln
UID:67-83
SUMMARY:Ali´s Birthday im Mondial
DESCRIPTION:https://www.freiercafe.net/kalender/alis-birthday-im-mondial.67/event?id=83
URL:https://www.freiercafe.net/kalender/alis-birthday-im-mondial.67/event?id=83
END:VEVENT
END:VCALENDAR