BEGIN:VCALENDAR
VERSION:2.0
METHOD:PUBLISH
PRODID:-//eightway/atendo2//NONSGML v1.0//EN
BEGIN:VEVENT
DTSTAMP:20260420T90133Z
DTSTART:20190722T90000Z
DTEND:20190723T30000Z
LOCATION:Samya FKK-Club, Kirschbaumweg 26 a, 50996 Köln-Rodenkirchen
UID:66-82
SUMMARY:Wild Wild West Party im Samya
DESCRIPTION:https://www.freiercafe.net/kalender/wild-wild-west-party-im-samya.66/event?id=82
URL:https://www.freiercafe.net/kalender/wild-wild-west-party-im-samya.66/event?id=82
END:VEVENT
END:VCALENDAR