BEGIN:VCALENDAR
VERSION:2.0
METHOD:PUBLISH
PRODID:-//eightway/atendo2//NONSGML v1.0//EN
BEGIN:VEVENT
DTSTAMP:20260420T111645Z
DTSTART:20190629T90000Z
DTEND:20190630T10000Z
LOCATION:Acapulco Gold, ROBERT-ZAPP-STR. 2A, 40880 RATINGEN
UID:65-81
SUMMARY:Acapulco Gold Sommerparty
DESCRIPTION:https://www.freiercafe.net/kalender/acapulco-gold-sommerparty.65/event?id=81
URL:https://www.freiercafe.net/kalender/acapulco-gold-sommerparty.65/event?id=81
END:VEVENT
END:VCALENDAR