BEGIN:VCALENDAR
VERSION:2.0
METHOD:PUBLISH
PRODID:-//eightway/atendo2//NONSGML v1.0//EN
BEGIN:VEVENT
DTSTAMP:20260420T90128Z
DTSTART:20190612T90000Z
DTEND:20190613T40000Z
LOCATION:Kirschbaumweg 26A, 50996 Köln, Germany (FKK &amp; Saunaclub Samya)
UID:61-77
SUMMARY:Blind Date Single Party im Samya
DESCRIPTION:https://www.freiercafe.net/kalender/blind-date-single-party-im-samya.61/event?id=77
URL:https://www.freiercafe.net/kalender/blind-date-single-party-im-samya.61/event?id=77
END:VEVENT
END:VCALENDAR