BEGIN:VCALENDAR
VERSION:2.0
METHOD:PUBLISH
PRODID:-//eightway/atendo2//NONSGML v1.0//EN
BEGIN:VEVENT
DTSTAMP:20260425T32958Z
DTSTART:20190317T100000Z
DTEND:20190318T30000Z
LOCATION:Robert-Zapp-Straße 2A, 40880 Ratingen, Germany (FKK &amp; Saunaclub Acapulco Gold)
UID:34-60
SUMMARY:Wild Wild West Party im Acapulco Gold
DESCRIPTION:https://www.freiercafe.net/kalender/wild-wild-west-party-im-acapulco-gold.34/event?id=60
URL:https://www.freiercafe.net/kalender/wild-wild-west-party-im-acapulco-gold.34/event?id=60
END:VEVENT
END:VCALENDAR