BEGIN:VCALENDAR
VERSION:2.0
METHOD:PUBLISH
PRODID:-//eightway/atendo2//NONSGML v1.0//EN
BEGIN:VEVENT
DTSTAMP:20260425T34401Z
DTSTART:20190309T100000Z
DTEND:20190310T50000Z
LOCATION:Eurotec-Ring 51, 47445 Moers, Germany (Saunaclub Diamond)
UID:40-52
SUMMARY:Jubiläumsparty - 3 Jahre Saunaclub Diamond
DESCRIPTION:https://www.freiercafe.net/kalender/jubilaeumsparty-3-jahre-saunaclub-diamond.40/event?id=52
URL:https://www.freiercafe.net/kalender/jubilaeumsparty-3-jahre-saunaclub-diamond.40/event?id=52
END:VEVENT
END:VCALENDAR