BEGIN:VCALENDAR
VERSION:2.0
METHOD:PUBLISH
PRODID:-//eightway/atendo2//NONSGML v1.0//EN
BEGIN:VEVENT
DTSTAMP:20260420T90225Z
DTSTART:20241231T100000Z
DTEND:20250101T40000Z
LOCATION:Kirschbaumweg 26/a, 50996 Köln, Germany (Saunaclub Samya)
UID:458-500
SUMMARY:Silvesterparty im Samya
DESCRIPTION:https://www.freiercafe.net/kalender/silvesterparty-im-samya.458/event?id=500
URL:https://www.freiercafe.net/kalender/silvesterparty-im-samya.458/event?id=500
END:VEVENT
END:VCALENDAR