BEGIN:VCALENDAR
VERSION:2.0
METHOD:PUBLISH
PRODID:-//eightway/atendo2//NONSGML v1.0//EN
BEGIN:VEVENT
DTSTAMP:20260420T90126Z
DTSTART:20240907T90000Z
DTEND:20240908T30000Z
LOCATION:Westring 233 A, 44579 Castrop-Rauxel, Germany (Saunaclub Penelope)
UID:421-463
SUMMARY:26 Jahre Jubiläum Penelope
DESCRIPTION:https://www.freiercafe.net/kalender/26-jahre-jubilaeum-penelope.421/event?id=463
URL:https://www.freiercafe.net/kalender/26-jahre-jubilaeum-penelope.421/event?id=463
END:VEVENT
END:VCALENDAR