BEGIN:VCALENDAR
VERSION:2.0
METHOD:PUBLISH
PRODID:-//eightway/atendo2//NONSGML v1.0//EN
BEGIN:VEVENT
DTSTAMP:20260420T74131Z
DTSTART:20240614T90000Z
DTEND:20240714T90000Z
LOCATION:Freudenbergstraße 39, 44809 Bochum, Germany (Freude 39 Men's Spa)
UID:404-446
SUMMARY:Freude 39 EM 2024 Spezial
DESCRIPTION:https://www.freiercafe.net/kalender/freude-39-em-2024-spezial.404/event?id=446
URL:https://www.freiercafe.net/kalender/freude-39-em-2024-spezial.404/event?id=446
END:VEVENT
END:VCALENDAR