BEGIN:VCALENDAR
VERSION:2.0
METHOD:PUBLISH
PRODID:-//eightway/atendo2//NONSGML v1.0//EN
BEGIN:VEVENT
DTSTAMP:20260420T90149Z
DTSTART:20231213T63000Z
DTEND:20231214T20000Z
LOCATION:Kautzstraße 9, 47441 Moers, Germany (Club Laluna)
UID:350-392
SUMMARY:Letzter Tag offen
DESCRIPTION:https://www.freiercafe.net/kalender/letzter-tag-offen.350/event?id=392
URL:https://www.freiercafe.net/kalender/letzter-tag-offen.350/event?id=392
END:VEVENT
END:VCALENDAR