BEGIN:VCALENDAR
VERSION:2.0
METHOD:PUBLISH
PRODID:-//eightway/atendo2//NONSGML v1.0//EN
BEGIN:VEVENT
DTSTAMP:20260420T92723Z
DTSTART:20231216T100000Z
DTEND:20231217T40000Z
LOCATION:Saunaclub Penelope
UID:344-386
SUMMARY:Weihnachtsparty in der Penelope
DESCRIPTION:https://www.freiercafe.net/kalender/weihnachtsparty-in-der-penelope.344/event?id=386
URL:https://www.freiercafe.net/kalender/weihnachtsparty-in-der-penelope.344/event?id=386
END:VEVENT
END:VCALENDAR