BEGIN:VCALENDAR
VERSION:2.0
METHOD:PUBLISH
PRODID:-//eightway/atendo2//NONSGML v1.0//EN
BEGIN:VEVENT
DTSTAMP:20260420T90256Z
DTSTART:20231202T90000Z
DTEND:20231203T20000Z
LOCATION:Robert-Zapp-Straße 2A, 40880 Ratingen, Germany (Saunaclub Acapulco Gold)
UID:341-383
SUMMARY:Nicolaus-Party im Acapulco Gold
DESCRIPTION:https://www.freiercafe.net/kalender/nicolaus-party-im-acapulco-gold.341/event?id=383
URL:https://www.freiercafe.net/kalender/nicolaus-party-im-acapulco-gold.341/event?id=383
END:VEVENT
END:VCALENDAR