BEGIN:VCALENDAR
VERSION:2.0
METHOD:PUBLISH
PRODID:-//eightway/atendo2//NONSGML v1.0//EN
BEGIN:VEVENT
DTSTAMP:20260420T90157Z
DTSTART:20230518T90000Z
DTEND:20230519T20000Z
LOCATION:August-Thyssen-Straße 4, 41564 Kaarst, Germany (Saunaclub Livingroom)
UID:285-327
SUMMARY:Neueröffnung Livingroom
DESCRIPTION:https://www.freiercafe.net/kalender/neueroeffnung-livingroom.285/event?id=327
URL:https://www.freiercafe.net/kalender/neueroeffnung-livingroom.285/event?id=327
END:VEVENT
END:VCALENDAR