BEGIN:VCALENDAR
VERSION:2.0
METHOD:PUBLISH
PRODID:-//eightway/atendo2//NONSGML v1.0//EN
BEGIN:VEVENT
DTSTAMP:20260420T90139Z
DTSTART:20230513T80000Z
DTEND:20230514T10000Z
LOCATION:Robert-Zapp-Straße 2A, 40880 Ratingen, Germany (Saunaclub Acapulco Gold, Robert-Zapp-Straße 2A, 40880 Ratingen)
UID:279-321
SUMMARY:JUBILÄUMSPARTY im ACA GOLD
DESCRIPTION:https://www.freiercafe.net/kalender/jubilaeumsparty-im-aca-gold.279/event?id=321
URL:https://www.freiercafe.net/kalender/jubilaeumsparty-im-aca-gold.279/event?id=321
END:VEVENT
END:VCALENDAR