BEGIN:VCALENDAR
VERSION:2.0
METHOD:PUBLISH
PRODID:-//eightway/atendo2//NONSGML v1.0//EN
BEGIN:VEVENT
DTSTAMP:20260420T90300Z
DTSTART:20230506T90000Z
DTEND:20230507T30000Z
LOCATION:Benzstraße 26-28, 47574 Goch, Germany (Saunaclub Van Goch, Benzstraße 26-28, 47574 Goch)
UID:277-319
SUMMARY:Maiparty im Van Goch
DESCRIPTION:https://www.freiercafe.net/kalender/maiparty-im-van-goch.277/event?id=319
URL:https://www.freiercafe.net/kalender/maiparty-im-van-goch.277/event?id=319
END:VEVENT
END:VCALENDAR