BEGIN:VCALENDAR
VERSION:2.0
METHOD:PUBLISH
PRODID:-//eightway/atendo2//NONSGML v1.0//EN
BEGIN:VEVENT
DTSTAMP:20260420T91142Z
DTSTART:20230501T90000Z
DTEND:20230502T10000Z
LOCATION:Kirschbaumweg 26A, 50996 Köln, Germany (Samya)
UID:276-318
SUMMARY:Tag der Arbeit im Samya
DESCRIPTION:https://www.freiercafe.net/kalender/tag-der-arbeit-im-samya.276/event?id=318
URL:https://www.freiercafe.net/kalender/tag-der-arbeit-im-samya.276/event?id=318
END:VEVENT
END:VCALENDAR