BEGIN:VCALENDAR
VERSION:2.0
METHOD:PUBLISH
PRODID:-//eightway/atendo2//NONSGML v1.0//EN
BEGIN:VEVENT
DTSTAMP:20260420T90224Z
DTSTART:20230401T90000Z
DTEND:20230402T10000Z
LOCATION:Kirschbaumweg 26A, 50996 Köln, Germany (Samya)
UID:275-317
SUMMARY:Tag der Arbeit im Samya
DESCRIPTION:https://www.freiercafe.net/kalender/tag-der-arbeit-im-samya.275/event?id=317
URL:https://www.freiercafe.net/kalender/tag-der-arbeit-im-samya.275/event?id=317
END:VEVENT
END:VCALENDAR