BEGIN:VCALENDAR
VERSION:2.0
METHOD:PUBLISH
PRODID:-//eightway/atendo2//NONSGML v1.0//EN
BEGIN:VEVENT
DTSTAMP:20260420T90325Z
DTSTART:20230505T90000Z
DTEND:20230506T30000Z
LOCATION:Eurotec-Ring 51, 47445 Moers, Germany (Saunaclub Diamond)
UID:274-316
SUMMARY:10 Jahre Saunaclub Diamond
DESCRIPTION:https://www.freiercafe.net/kalender/10-jahre-saunaclub-diamond.274/event?id=316
URL:https://www.freiercafe.net/kalender/10-jahre-saunaclub-diamond.274/event?id=316
END:VEVENT
END:VCALENDAR