BEGIN:VCALENDAR
VERSION:2.0
METHOD:PUBLISH
PRODID:-//eightway/atendo2//NONSGML v1.0//EN
BEGIN:VEVENT
DTSTAMP:20260420T90303Z
DTSTART:20230429T90000Z
DTEND:20230429T110000Z
LOCATION:Deutscher Ring 42, 42327 Wuppertal, Germany (Saunaclub Sky)
UID:273-315
SUMMARY:Tanz in den Mai im Sky
DESCRIPTION:https://www.freiercafe.net/kalender/tanz-in-den-mai-im-sky.273/event?id=315
URL:https://www.freiercafe.net/kalender/tanz-in-den-mai-im-sky.273/event?id=315
END:VEVENT
END:VCALENDAR