BEGIN:VCALENDAR
VERSION:2.0
METHOD:PUBLISH
PRODID:-//eightway/atendo2//NONSGML v1.0//EN
BEGIN:VEVENT
DTSTAMP:20260420T90155Z
DTSTART:20230501T90000Z
DTEND:20230502T10000Z
LOCATION:Hugo-Junkers-Straße 10, 50739 Köln, Germany (Saunaclub Mondial, Hugo-Junkers-Straße 10, 50739 Köln)
UID:272-314
SUMMARY:13 Jahre Mondial Jubiläum
DESCRIPTION:https://www.freiercafe.net/kalender/13-jahre-mondial-jubilaeum.272/event?id=314
URL:https://www.freiercafe.net/kalender/13-jahre-mondial-jubilaeum.272/event?id=314
END:VEVENT
END:VCALENDAR