BEGIN:VCALENDAR
VERSION:2.0
METHOD:PUBLISH
PRODID:-//eightway/atendo2//NONSGML v1.0//EN
BEGIN:VEVENT
DTSTAMP:20260420T90130Z
DTSTART:20230429T100000Z
DTEND:20230430T20000Z
LOCATION:Benzstraße 26-28, 47574 Goch, Germany (Saunaclub Van Goch, Benzstraße 26-28, 47574 Goch)
UID:271-313
SUMMARY:Tanz in den Mai im Van Goch
DESCRIPTION:https://www.freiercafe.net/kalender/tanz-in-den-mai-im-van-goch.271/event?id=313
URL:https://www.freiercafe.net/kalender/tanz-in-den-mai-im-van-goch.271/event?id=313
END:VEVENT
END:VCALENDAR