BEGIN:VCALENDAR
VERSION:2.0
METHOD:PUBLISH
PRODID:-//eightway/atendo2//NONSGML v1.0//EN
BEGIN:VEVENT
DTSTAMP:20260420T90224Z
DTSTART:20230429T80000Z
DTEND:20230430T30000Z
LOCATION:Robert-Zapp-Straße 2A, 40880 Ratingen, Germany (Saunaclub Acapulco Gold, Robert-Zapp-Straße 2A, 40880 Ratingen)
UID:270-312
SUMMARY:Tanz in den Mai im Acapulco GOLD
DESCRIPTION:https://www.freiercafe.net/kalender/tanz-in-den-mai-im-acapulco-gold.270/event?id=312
URL:https://www.freiercafe.net/kalender/tanz-in-den-mai-im-acapulco-gold.270/event?id=312
END:VEVENT
END:VCALENDAR