BEGIN:VCALENDAR
VERSION:2.0
METHOD:PUBLISH
PRODID:-//eightway/atendo2//NONSGML v1.0//EN
BEGIN:VEVENT
DTSTAMP:20260420T90304Z
DTSTART:20230429T90000Z
DTEND:20230430T30000Z
LOCATION:Westring 233, 44579 Castrop-Rauxel, Germany (Saunaclub Penelope, Westring 233 A, 44579 Castrop-Rauxel)
UID:269-311
SUMMARY:Tanz in den Mai im Penelope
DESCRIPTION:https://www.freiercafe.net/kalender/tanz-in-den-mai-im-penelope.269/event?id=311
URL:https://www.freiercafe.net/kalender/tanz-in-den-mai-im-penelope.269/event?id=311
END:VEVENT
END:VCALENDAR