BEGIN:VCALENDAR
VERSION:2.0
METHOD:PUBLISH
PRODID:-//eightway/atendo2//NONSGML v1.0//EN
BEGIN:VEVENT
DTSTAMP:20260420T90150Z
DTSTART:20230423T90000Z
DTEND:20230424T10000Z
LOCATION:Hugo-Junkers-Straße 10, 50739 Köln, Germany (Club Mondial)
UID:267-309
SUMMARY:BAYRAM - Party
DESCRIPTION:https://www.freiercafe.net/kalender/bayram-party.267/event?id=309
URL:https://www.freiercafe.net/kalender/bayram-party.267/event?id=309
END:VEVENT
END:VCALENDAR