BEGIN:VCALENDAR
VERSION:2.0
METHOD:PUBLISH
PRODID:-//eightway/atendo2//NONSGML v1.0//EN
BEGIN:VEVENT
DTSTAMP:20260420T90200Z
DTSTART:20230429T100000Z
DTEND:20230430T30000Z
LOCATION:Riemker Str. 110, 44625 Herne, Germany (Salome)
UID:266-308
SUMMARY:White Sensation
DESCRIPTION:https://www.freiercafe.net/kalender/white-sensation.266/event?id=308
URL:https://www.freiercafe.net/kalender/white-sensation.266/event?id=308
END:VEVENT
END:VCALENDAR