BEGIN:VCALENDAR
VERSION:2.0
METHOD:PUBLISH
PRODID:-//eightway/atendo2//NONSGML v1.0//EN
BEGIN:VEVENT
DTSTAMP:20260420T90128Z
DTSTART:20230422T80000Z
DTEND:20230423T30000Z
LOCATION:Harkortstraße 3, 42551 Velbert, Germany (FKK Prime)
UID:265-307
SUMMARY:White Sensation Party
DESCRIPTION:https://www.freiercafe.net/kalender/white-sensation-party.265/event?id=307
URL:https://www.freiercafe.net/kalender/white-sensation-party.265/event?id=307
END:VEVENT
END:VCALENDAR