BEGIN:VCALENDAR
VERSION:2.0
METHOD:PUBLISH
PRODID:-//eightway/atendo2//NONSGML v1.0//EN
BEGIN:VEVENT
DTSTAMP:20260420T90205Z
DTSTART:20230430T90000Z
DTEND:20230501T10000Z
LOCATION:Bahnstraße 90, 47929 Grefrath, Germany (Golden Gate Saunaclub)
UID:264-306
SUMMARY:Goldengate presents: Tanz in den Mai
DESCRIPTION:https://www.freiercafe.net/kalender/goldengate-presents-tanz-in-den-mai.264/event?id=306
URL:https://www.freiercafe.net/kalender/goldengate-presents-tanz-in-den-mai.264/event?id=306
END:VEVENT
END:VCALENDAR