BEGIN:VCALENDAR
VERSION:2.0
METHOD:PUBLISH
PRODID:-//eightway/atendo2//NONSGML v1.0//EN
BEGIN:VEVENT
DTSTAMP:20260420T90232Z
DTSTART:20230408T80000Z
DTEND:20230409T40000Z
LOCATION:Heerstraße 2, 47053 Duisburg, Germany (Erotic Lounge, Heerstraße 2, 47053 Duisburg)
UID:263-305
SUMMARY:Osterparty in der Erotic Lounge
DESCRIPTION:https://www.freiercafe.net/kalender/osterparty-in-der-erotic-lounge.263/event?id=305
URL:https://www.freiercafe.net/kalender/osterparty-in-der-erotic-lounge.263/event?id=305
END:VEVENT
END:VCALENDAR