BEGIN:VCALENDAR
VERSION:2.0
METHOD:PUBLISH
PRODID:-//eightway/atendo2//NONSGML v1.0//EN
BEGIN:VEVENT
DTSTAMP:20260420T90152Z
DTSTART:20230408T90000Z
DTEND:20230409T100000Z
LOCATION:Deutscher Ring, 42327 Wuppertal, Germany (Saunaclub Sky, Deutscher Ring 42, 42327 Wuppertal)
UID:262-304
SUMMARY:Osterparty im Sky
DESCRIPTION:https://www.freiercafe.net/kalender/osterparty-im-sky.262/event?id=304
URL:https://www.freiercafe.net/kalender/osterparty-im-sky.262/event?id=304
END:VEVENT
END:VCALENDAR