BEGIN:VCALENDAR
VERSION:2.0
METHOD:PUBLISH
PRODID:-//eightway/atendo2//NONSGML v1.0//EN
BEGIN:VEVENT
DTSTAMP:20260420T90232Z
DTSTART:20230409T80000Z
DTEND:20230409T110000Z
LOCATION:Lemiers Rijksweg 1, 6295 AK Lemiers, Netherlands (Saunaclub Sixens, Lemiers Rijksweg 1, 6295 AK Lemiers, Niederlande)
UID:261-303
SUMMARY:Osterparty im Sixsens
DESCRIPTION:https://www.freiercafe.net/kalender/osterparty-im-sixsens.261/event?id=303
URL:https://www.freiercafe.net/kalender/osterparty-im-sixsens.261/event?id=303
END:VEVENT
END:VCALENDAR