BEGIN:VCALENDAR
VERSION:2.0
METHOD:PUBLISH
PRODID:-//eightway/atendo2//NONSGML v1.0//EN
BEGIN:VEVENT
DTSTAMP:20260420T90205Z
DTSTART:20230430T110000Z
DTEND:20230501T30000Z
LOCATION:Kirschbaumweg 26A, 50996 Köln, Germany (Samya FKK Saunaclub)
UID:260-302
SUMMARY:Tanz in den Mai im Samya
DESCRIPTION:https://www.freiercafe.net/kalender/tanz-in-den-mai-im-samya.260/event?id=302
URL:https://www.freiercafe.net/kalender/tanz-in-den-mai-im-samya.260/event?id=302
END:VEVENT
END:VCALENDAR