BEGIN:VCALENDAR
VERSION:2.0
METHOD:PUBLISH
PRODID:-//eightway/atendo2//NONSGML v1.0//EN
BEGIN:VEVENT
DTSTAMP:20260420T90155Z
DTSTART:20230318T100000Z
DTEND:20230319T40000Z
LOCATION:Westring 233, 44579 Castrop-Rauxel, Germany (Saunaclub Penelope, Westring 233 A, 44579 Castrop-Rauxel)
UID:259-301
SUMMARY:Bunny Party im Penelope
DESCRIPTION:https://www.freiercafe.net/kalender/bunny-party-im-penelope.259/event?id=301
URL:https://www.freiercafe.net/kalender/bunny-party-im-penelope.259/event?id=301
END:VEVENT
END:VCALENDAR