BEGIN:VCALENDAR
VERSION:2.0
METHOD:PUBLISH
PRODID:-//eightway/atendo2//NONSGML v1.0//EN
BEGIN:VEVENT
DTSTAMP:20260420T90934Z
DTSTART:20230318T90000Z
DTEND:20230319T20000Z
LOCATION:Robert-Zapp-Straße 2A, 40880 Ratingen, Germany (Saunaclub Acapulco Gold, Robert-Zapp-Straße 2A, 40880 Ratingen)
UID:258-300
SUMMARY:Bunny Party im Acapulco Gold
DESCRIPTION:https://www.freiercafe.net/kalender/bunny-party-im-acapulco-gold.258/event?id=300
URL:https://www.freiercafe.net/kalender/bunny-party-im-acapulco-gold.258/event?id=300
END:VEVENT
END:VCALENDAR