BEGIN:VCALENDAR
VERSION:2.0
METHOD:PUBLISH
PRODID:-//eightway/atendo2//NONSGML v1.0//EN
BEGIN:VEVENT
DTSTAMP:20260420T90125Z
DTSTART:20230413T90000Z
DTEND:20230414T10000Z
LOCATION:Kirschbaumweg 26A, 50996 Köln, Germany (Saunaclub Samya, Kirschbaumweg 26A, 50996 Köln)
UID:257-299
SUMMARY:Osterparty im Samya
DESCRIPTION:https://www.freiercafe.net/kalender/osterparty-im-samya.257/event?id=299
URL:https://www.freiercafe.net/kalender/osterparty-im-samya.257/event?id=299
END:VEVENT
END:VCALENDAR