BEGIN:VCALENDAR
VERSION:2.0
METHOD:PUBLISH
PRODID:-//eightway/atendo2//NONSGML v1.0//EN
BEGIN:VEVENT
DTSTAMP:20260420T90306Z
DTSTART:20230325T100000Z
DTEND:20230326T30000Z
LOCATION:Harkortstraße 3, 42551 Velbert, Germany (Prime Men's Spa)
UID:256-298
SUMMARY:Spring Party
DESCRIPTION:https://www.freiercafe.net/kalender/spring-party.256/event?id=298
URL:https://www.freiercafe.net/kalender/spring-party.256/event?id=298
END:VEVENT
END:VCALENDAR