BEGIN:VCALENDAR
VERSION:2.0
METHOD:PUBLISH
PRODID:-//eightway/atendo2//NONSGML v1.0//EN
BEGIN:VEVENT
DTSTAMP:20260420T90348Z
DTSTART:20230413T90000Z
DTEND:20230414T10000Z
LOCATION:Hugo-Junkers-Straße 10, 50739 Köln, Germany (Club Mondial)
UID:255-297
SUMMARY:Osterparty im Mondial
DESCRIPTION:https://www.freiercafe.net/kalender/osterparty-im-mondial.255/event?id=297
URL:https://www.freiercafe.net/kalender/osterparty-im-mondial.255/event?id=297
END:VEVENT
END:VCALENDAR