BEGIN:VCALENDAR
VERSION:2.0
METHOD:PUBLISH
PRODID:-//eightway/atendo2//NONSGML v1.0//EN
BEGIN:VEVENT
DTSTAMP:20260420T90130Z
DTSTART:20230304T90000Z
DTEND:20230305T20000Z
LOCATION:Robert-Zapp-Straße 2A, 40880 Ratingen, Germany (Saunaclub Acapulco Gold, Robert-Zapp-Straße 2A, 40880 Ratingen)
UID:254-296
SUMMARY:White Sensation Party im Acapulco GOLD
DESCRIPTION:https://www.freiercafe.net/kalender/white-sensation-party-im-acapulco-gold.254/event?id=296
URL:https://www.freiercafe.net/kalender/white-sensation-party-im-acapulco-gold.254/event?id=296
END:VEVENT
END:VCALENDAR