BEGIN:VCALENDAR
VERSION:2.0
METHOD:PUBLISH
PRODID:-//eightway/atendo2//NONSGML v1.0//EN
BEGIN:VEVENT
DTSTAMP:20260420T90153Z
DTSTART:20230304T100000Z
DTEND:20230305T40000Z
LOCATION:Westring 233, 44579 Castrop-Rauxel, Germany (Saunaclub Penelope, Westring 233 A, 44579 Castrop-Rauxel)
UID:253-295
SUMMARY:White Sensation Party im Penelope
DESCRIPTION:https://www.freiercafe.net/kalender/white-sensation-party-im-penelope.253/event?id=295
URL:https://www.freiercafe.net/kalender/white-sensation-party-im-penelope.253/event?id=295
END:VEVENT
END:VCALENDAR